BEGIN:VCALENDAR
VERSION:2.0
PRODID:-//ddaysoftware.com//NONSGML DDay.iCal 1.0//EN
BEGIN:VTIMEZONE
TZID:W. Europe Standard Time
BEGIN:STANDARD
DTSTART:20251002T030000
RRULE:FREQ=YEARLY;BYDAY=-1SU;BYHOUR=3;BYMINUTE=0;BYMONTH=10
TZNAME:Mitteleuropäische Zeit
TZOFFSETFROM:+0200
TZOFFSETTO:+0100
END:STANDARD
BEGIN:DAYLIGHT
DTSTART:20250301T020000
RRULE:FREQ=YEARLY;BYDAY=-1SU;BYHOUR=2;BYMINUTE=0;BYMONTH=3
TZNAME:Mitteleuropäische Sommerzeit
TZOFFSETFROM:+0100
TZOFFSETTO:+0200
END:DAYLIGHT
END:VTIMEZONE
BEGIN:VEVENT
CATEGORIES:Traditions- und Heimatpflege
DESCRIPTION:\n\nVeranstalter: Frankenwaldverein (HV)\, Köhlerfreunde\n\nhtt
 ps://www.wallenfels.de/aktuelles/veranstaltungskalender/koehlerfest-in-der
 -thiemitz/
DTEND;VALUE=DATE:20190429
DTSTAMP:20260419T124318Z
DTSTART;VALUE=DATE:20190428
LOCATION:Thiemitztal: 96346 Wallenfels
SEQUENCE:0
SUMMARY:Köhlerfest in der Thiemitz
UID:5598
URL:https://www.wallenfels.de/aktuelles/veranstaltungskalender/koehlerfest-
 in-der-thiemitz/
END:VEVENT
END:VCALENDAR
