BEGIN:VCALENDAR
VERSION:2.0
PRODID:-//ddaysoftware.com//NONSGML DDay.iCal 1.0//EN
BEGIN:VTIMEZONE
TZID:W. Europe Standard Time
BEGIN:STANDARD
DTSTART:20251002T030000
RRULE:FREQ=YEARLY;BYDAY=-1SU;BYHOUR=3;BYMINUTE=0;BYMONTH=10
TZNAME:Mitteleuropäische Zeit
TZOFFSETFROM:+0200
TZOFFSETTO:+0100
END:STANDARD
BEGIN:DAYLIGHT
DTSTART:20250301T020000
RRULE:FREQ=YEARLY;BYDAY=-1SU;BYHOUR=2;BYMINUTE=0;BYMONTH=3
TZNAME:Mitteleuropäische Sommerzeit
TZOFFSETFROM:+0100
TZOFFSETTO:+0200
END:DAYLIGHT
END:VTIMEZONE
BEGIN:VEVENT
CATEGORIES:Traditions- und Heimatpflege
DESCRIPTION:\n\nVeranstalter: Freie Wähler Wallenfels\n\nhttps://www.wallen
 fels.de/aktuelles/veranstaltungskalender/taubenmarkt-der-freien-waehler-wa
 llenfels/
DTEND:20250329T163000
DTSTAMP:20260421T074448Z
DTSTART:20250329T153000
LOCATION:Flößerhaus: Im Geusergrund 1\, 96346 Wallenfels
SEQUENCE:0
SUMMARY:Taubenmarkt der Freien Wähler Wallenfels
UID:8663
URL:https://www.wallenfels.de/aktuelles/veranstaltungskalender/taubenmarkt-
 der-freien-waehler-wallenfels/
END:VEVENT
END:VCALENDAR
